BEGIN:VCALENDAR
VERSION:2.0
PRODID:-//IBM Quantum Innovation Center at NC State - ECPv6.15.19//NONSGML v1.0//EN
CALSCALE:GREGORIAN
METHOD:PUBLISH
X-WR-CALNAME:IBM Quantum Innovation Center at NC State
X-ORIGINAL-URL:https://quantum.ncsu.edu/ibm-quantum
X-WR-CALDESC:Events for IBM Quantum Innovation Center at NC State
REFRESH-INTERVAL;VALUE=DURATION:PT1H
X-Robots-Tag:noindex
X-PUBLISHED-TTL:PT1H
BEGIN:VTIMEZONE
TZID:America/New_York
BEGIN:DAYLIGHT
TZOFFSETFROM:-0500
TZOFFSETTO:-0400
TZNAME:EDT
DTSTART:20210314T070000
END:DAYLIGHT
BEGIN:STANDARD
TZOFFSETFROM:-0400
TZOFFSETTO:-0500
TZNAME:EST
DTSTART:20211107T060000
END:STANDARD
BEGIN:DAYLIGHT
TZOFFSETFROM:-0500
TZOFFSETTO:-0400
TZNAME:EDT
DTSTART:20220313T070000
END:DAYLIGHT
BEGIN:STANDARD
TZOFFSETFROM:-0400
TZOFFSETTO:-0500
TZNAME:EST
DTSTART:20221106T060000
END:STANDARD
BEGIN:DAYLIGHT
TZOFFSETFROM:-0500
TZOFFSETTO:-0400
TZNAME:EDT
DTSTART:20230312T070000
END:DAYLIGHT
BEGIN:STANDARD
TZOFFSETFROM:-0400
TZOFFSETTO:-0500
TZNAME:EST
DTSTART:20231105T060000
END:STANDARD
END:VTIMEZONE
BEGIN:VEVENT
DTSTART;TZID=America/New_York:20220311T140000
DTEND;TZID=America/New_York:20220311T150000
DTSTAMP:20260423T173925
CREATED:20220228T200859Z
LAST-MODIFIED:20220228T202633Z
UID:1530-1647007200-1647010800@quantum.ncsu.edu
SUMMARY:Triangle Quantum Computing Seminar - Spring Break Duke
DESCRIPTION:Join Today’s Duke\, NC State and UNC collaborative Triangle Quantum Computing Seminar \n  \nNo Speaker This Week \n  \nThis is a Hybrid Event with NC State. \nThe In Person location for NC State is Venture Place\, 2nd Floor\, Large Classroom. \nREGISTRATION: Form Link  \nFor more information email:  quantumcomputing@ncsu.edu
URL:https://quantum.ncsu.edu/ibm-quantum/event/triangle-quantum-computing-seminar-spring-break-duke/
END:VEVENT
END:VCALENDAR