BEGIN:VCALENDAR
VERSION:2.0
PRODID:-//IBM Quantum Innovation Center at NC State - ECPv6.15.19//NONSGML v1.0//EN
CALSCALE:GREGORIAN
METHOD:PUBLISH
X-WR-CALNAME:IBM Quantum Innovation Center at NC State
X-ORIGINAL-URL:https://quantum.ncsu.edu/ibm-quantum
X-WR-CALDESC:Events for IBM Quantum Innovation Center at NC State
REFRESH-INTERVAL;VALUE=DURATION:PT1H
X-Robots-Tag:noindex
X-PUBLISHED-TTL:PT1H
BEGIN:VTIMEZONE
TZID:America/New_York
BEGIN:DAYLIGHT
TZOFFSETFROM:-0500
TZOFFSETTO:-0400
TZNAME:EDT
DTSTART:20210314T070000
END:DAYLIGHT
BEGIN:STANDARD
TZOFFSETFROM:-0400
TZOFFSETTO:-0500
TZNAME:EST
DTSTART:20211107T060000
END:STANDARD
BEGIN:DAYLIGHT
TZOFFSETFROM:-0500
TZOFFSETTO:-0400
TZNAME:EDT
DTSTART:20220313T070000
END:DAYLIGHT
BEGIN:STANDARD
TZOFFSETFROM:-0400
TZOFFSETTO:-0500
TZNAME:EST
DTSTART:20221106T060000
END:STANDARD
BEGIN:DAYLIGHT
TZOFFSETFROM:-0500
TZOFFSETTO:-0400
TZNAME:EDT
DTSTART:20230312T070000
END:DAYLIGHT
BEGIN:STANDARD
TZOFFSETFROM:-0400
TZOFFSETTO:-0500
TZNAME:EST
DTSTART:20231105T060000
END:STANDARD
END:VTIMEZONE
BEGIN:VEVENT
DTSTART;TZID=America/New_York:20220829T080000
DTEND;TZID=America/New_York:20220829T170000
DTSTAMP:20260425T080627
CREATED:20220825T213745Z
LAST-MODIFIED:20220829T193416Z
UID:1911-1661760000-1661792400@quantum.ncsu.edu
SUMMARY:Triangle Quantum Computing Seminar Series Returns at a New Time
DESCRIPTION:Duke\, NC State and UNC collaborative Triangle Quantum Computing Seminars will return this Fall at 1pm Eastern Time. \nFor NC State this continues to be a Hybrid Event. \nThe In Person location for NC State is Venture Place\, 2nd Floor\, Large Classroom. \n  \nNot receiving our Email Invitations? Register Here to be added to the List \nREGISTRATION: Form Link \nFor more information email:  quantumcomputing@ncsu.edu
URL:https://quantum.ncsu.edu/ibm-quantum/event/triangle-quantum-computing-seminar-series-returns-at-a-new-time/2022-08-29/
END:VEVENT
END:VCALENDAR